BEGIN:VCALENDAR
VERSION:2.0
PRODID:-//PRISMA Festival - ECPv6.0.11//NONSGML v1.0//EN
CALSCALE:GREGORIAN
METHOD:PUBLISH
X-ORIGINAL-URL:https://prismafestival.com
X-WR-CALDESC:Events for PRISMA Festival
REFRESH-INTERVAL;VALUE=DURATION:PT1H
X-Robots-Tag:noindex
X-PUBLISHED-TTL:PT1H
BEGIN:VTIMEZONE
TZID:UTC
BEGIN:STANDARD
TZOFFSETFROM:+0000
TZOFFSETTO:+0000
TZNAME:UTC
DTSTART:20230101T000000
END:STANDARD
END:VTIMEZONE
BEGIN:VEVENT
DTSTART;TZID=UTC:20230615T193000
DTEND;TZID=UTC:20230615T193000
DTSTAMP:20260424T133725
CREATED:20230322T123050Z
LAST-MODIFIED:20230322T123325Z
UID:20063-1686857400-1686857400@prismafestival.com
SUMMARY:A Musical Mosaic – Echoing Beauty and Jewel
DESCRIPTION:All Guest Artists and PRISMA Festival Orchestra\nTobin Stokes – Bits of Beauty (all guest artists)\nGermaine Tailleferre – Piano Trio (Trio Cuore)\n—\nStravinsky – Pulcinella Suite
URL:https://prismafestival.com/calendar/a-musical-mosaic-echoing-beauty-and-jewel/
CATEGORIES:Concert
ATTACH;FMTTYPE=image/jpeg:https://prismafestival.com/wp-content/uploads/sites/8/2023/01/SAR_1528-scaled.jpg
END:VEVENT
END:VCALENDAR