BEGIN:VCALENDAR
VERSION:2.0
PRODID:-//PRISMA Festival - ECPv6.0.11//NONSGML v1.0//EN
CALSCALE:GREGORIAN
METHOD:PUBLISH
X-ORIGINAL-URL:https://prismafestival.com
X-WR-CALDESC:Events for PRISMA Festival
REFRESH-INTERVAL;VALUE=DURATION:PT1H
X-Robots-Tag:noindex
X-PUBLISHED-TTL:PT1H
BEGIN:VTIMEZONE
TZID:UTC
BEGIN:STANDARD
TZOFFSETFROM:+0000
TZOFFSETTO:+0000
TZNAME:UTC
DTSTART:20230101T000000
END:STANDARD
END:VTIMEZONE
BEGIN:VEVENT
DTSTART;TZID=UTC:20230613T193000
DTEND;TZID=UTC:20230613T213000
DTSTAMP:20260424T115359
CREATED:20230320T135627Z
LAST-MODIFIED:20230320T143059Z
UID:20049-1686684600-1686691800@prismafestival.com
SUMMARY:Lafayette String Quartet
DESCRIPTION:Shostakovich – String Quartet No. 4 Op. 83\nKelly-Marie Murphy “For Fragile Personalities in Anxious Times” (Powell River Premiere) \n\nMozart – String Quintet in G minor K. 516\n(with guest violist Yariv Aloni)
URL:https://prismafestival.com/calendar/lafayette-string-quartet/
CATEGORIES:Concert
ATTACH;FMTTYPE=image/jpeg:https://prismafestival.com/wp-content/uploads/sites/8/2020/11/Lafayette-scaled.jpg
END:VEVENT
END:VCALENDAR